BEGIN:VCALENDAR
VERSION:2.0
CALSCALE:GREGORIAN
PRODID:-//Diputació de Barcelona//DibaCMS//EN
BEGIN:VEVENT
UID:3198
DTSTAMP:20260423T081459
DTSTART:20170510T170000
DTEND:20170510T180000
SUMMARY:Espectacle infantil - Bibliobús
LOCATION:C/ Josep Fornell, s/n 08231 Ullastrell
METHOD:PUBLISH
X-WR-CALNAME:ullastrell@ullastrell.cat
X-WR-TIMEZONE:Europe/Madrid
DESCRIPTION:A càrrec de Teatre Aula

URI:https://www.ullastrell.cat/actualitat/agenda/espectacle-infantil-bibliobus.html
CLASS:PUBLIC
END:VEVENT
END:VCALENDAR
