BEGIN:VCALENDAR
VERSION:2.0
CALSCALE:GREGORIAN
PRODID:-//Diputació de Barcelona//DibaCMS//EN
BEGIN:VEVENT
UID:3201
DTSTAMP:20260423T153535
DTSTART:20170511T190000
DTEND:20170511T200000
SUMMARY:Xerrada: Els canvis a l'adolescència
LOCATION:
METHOD:PUBLISH
X-WR-CALNAME:ullastrell@ullastrell.cat
X-WR-TIMEZONE:Europe/Madrid
DESCRIPTION:Es tracta d'una interessant xerrada sobre els canvis a l'adolescència que l'AMPA de l'IES Viladecavalls ha organitzat en col·laboració amb l'Institut dirigida a pares, mares i tutors de tots els alumnes.

URI:https://www.ullastrell.cat/actualitat/agenda/xerrada-els-canvis-a-ladolescencia.html
CLASS:PUBLIC
END:VEVENT
END:VCALENDAR
