BEGIN:VCALENDAR
VERSION:2.0
CALSCALE:GREGORIAN
PRODID:-//Diputació de Barcelona//DibaCMS//EN
BEGIN:VEVENT
UID:3203
DTSTAMP:20260423T081028
DTSTART:20170517T170000
DTEND:20170517T180000
SUMMARY:CONTE VA, CONTE VE,... Els contes del Rei Lluís
LOCATION:C/ Josep Fornell, s/n 08231 Ullastrell
METHOD:PUBLISH
X-WR-CALNAME:ullastrell@ullastrell.cat
X-WR-TIMEZONE:Europe/Madrid
DESCRIPTION:Amb la Berta del Poblet

Atenció!!! Canvi de lloc, a partir d'ara ho farem a la Biblioteca!!!

URI:https://www.ullastrell.cat/actualitat/agenda/conte-va-conte-ve-els-contes-del-rei-lluis.html
CLASS:PUBLIC
END:VEVENT
END:VCALENDAR
