BEGIN:VCALENDAR
VERSION:2.0
CALSCALE:GREGORIAN
PRODID:-//Diputació de Barcelona//DibaCMS//EN
BEGIN:VEVENT
UID:3204
DTSTAMP:20260423T035940
DTSTART:20170514T120000
DTEND:20170514T131500
SUMMARY:Exhibició de vehicles d'època
LOCATION:
METHOD:PUBLISH
X-WR-CALNAME:ullastrell@ullastrell.cat
X-WR-TIMEZONE:Europe/Madrid
DESCRIPTION:Estaran situats al carrer Serra a les 12h. del migdia

URI:https://www.ullastrell.cat/actualitat/agenda/exhibicio-de-vehicles-depoca.html
CLASS:PUBLIC
END:VEVENT
END:VCALENDAR
