BEGIN:VCALENDAR
VERSION:2.0
CALSCALE:GREGORIAN
PRODID:-//Diputació de Barcelona//DibaCMS//EN
BEGIN:VEVENT
UID:3215
DTSTAMP:20260423T121356
DTSTART:20170514T190000
DTEND:20170514T190000
SUMMARY:XXVIII MOSTRA TEATRE: TOC-TOC
LOCATION:C/ Josep Fornell, s/n 08231 Ullastrell
METHOD:PUBLISH
X-WR-CALNAME:ullastrell@ullastrell.cat
X-WR-TIMEZONE:Europe/Madrid
DESCRIPTION:Obra de teatre inclosa a la 28ª Mostra de Teatre que organitza el GATU

URI:https://www.ullastrell.cat/actualitat/agenda/xxviii-mostra-teatre-toc-toc.html
CLASS:PUBLIC
END:VEVENT
END:VCALENDAR
