BEGIN:VCALENDAR
VERSION:2.0
CALSCALE:GREGORIAN
PRODID:-//Diputació de Barcelona//DibaCMS//EN
BEGIN:VEVENT
UID:3216
DTSTAMP:20260423T143022
DTSTART:20170513T100000
DTEND:20170514T200000
SUMMARY:Participació a la Fira Modernista de Terrassa
LOCATION:Raval de Montserrat de Terrassa 
METHOD:PUBLISH
X-WR-CALNAME:ullastrell@ullastrell.cat
X-WR-TIMEZONE:Europe/Madrid
DESCRIPTION:Parada informativa de l'Ajuntament d'Ullastrell a la Raval de Montserrat

URI:https://www.ullastrell.cat/actualitat/agenda/participacio-a-la-fira-modernista-de-terrassa.html
CLASS:PUBLIC
END:VEVENT
END:VCALENDAR
