BEGIN:VCALENDAR
VERSION:2.0
CALSCALE:GREGORIAN
PRODID:-//Diputació de Barcelona//DibaCMS//EN
BEGIN:VEVENT
UID:3217
DTSTAMP:20260423T075125
DTSTART:20170517T210000
DTEND:20170517T210000
SUMMARY:Sessió informativa: Com sol.licitar les subvencions per entitats?
LOCATION:C/ Serra, 17 08231 Ullastrell
METHOD:PUBLISH
X-WR-CALNAME:ullastrell@ullastrell.cat
X-WR-TIMEZONE:Europe/Madrid
DESCRIPTION:Obert a totes les entitats locals

URI:https://www.ullastrell.cat/actualitat/agenda/sessio-informativa-com-sollicitar-les-subvencions-per-entitats.html
CLASS:PUBLIC
END:VEVENT
END:VCALENDAR
