BEGIN:VCALENDAR
VERSION:2.0
CALSCALE:GREGORIAN
PRODID:-//Diputació de Barcelona//DibaCMS//EN
BEGIN:VEVENT
UID:3221
DTSTAMP:20260423T131310
DTSTART:20170524T150000
DTEND:20170524T160000
SUMMARY:Sessió informativa per a establiments: Els al·lèrgens
LOCATION:C/ Serra, 17 08231 Ullastrell
METHOD:PUBLISH
X-WR-CALNAME:ullastrell@ullastrell.cat
X-WR-TIMEZONE:Europe/Madrid
DESCRIPTION:Xerrada especial dedicada als establiments alimentaris o personal que treballa en alimentació per tal de poder informar al client final sobre els grups d'al.lergens que poden tenir els aliments que serveixen.

URI:https://www.ullastrell.cat/actualitat/agenda/sessio-informativa-per-a-establiments-els-allergens.html
CLASS:PUBLIC
END:VEVENT
END:VCALENDAR
