BEGIN:VCALENDAR
VERSION:2.0
CALSCALE:GREGORIAN
PRODID:-//Diputació de Barcelona//DibaCMS//EN
BEGIN:VEVENT
UID:3228
DTSTAMP:20260423T051734
DTSTART:20170527T120000
DTEND:20170527T130000
SUMMARY:Portes obertes pisos gent gran
LOCATION:Entrada pel Corraló de Cal Barber 
METHOD:PUBLISH
X-WR-CALNAME:ullastrell@ullastrell.cat
X-WR-TIMEZONE:Europe/Madrid
DESCRIPTION:El proper dissabte 27 de maig, a les 12.00h es farà una jornada de portes obertes als pisos de titularitat pública de lloguer per a persones grans

URI:https://www.ullastrell.cat/actualitat/agenda/portes-obertes-pisos-gent-gran.html
CLASS:PUBLIC
END:VEVENT
END:VCALENDAR
