BEGIN:VCALENDAR
VERSION:2.0
CALSCALE:GREGORIAN
PRODID:-//Diputació de Barcelona//DibaCMS//EN
BEGIN:VEVENT
UID:3229
DTSTAMP:20260423T180846
DTSTART:20170526T200000
DTEND:20170526T200000
SUMMARY:Converses amb...Pilarín Bayés
LOCATION:C/ Josep Fornell, s/n 08231 Ullastrell
METHOD:PUBLISH
X-WR-CALNAME:ullastrell@ullastrell.cat
X-WR-TIMEZONE:Europe/Madrid
DESCRIPTION:Pilarín Bayés propera convidada a la segona sessió del Cicle de Xerrades "Converses amb..." del PDeCAT



URI:https://www.ullastrell.cat/actualitat/agenda/converses-ambpilarin-bayes.html
CLASS:PUBLIC
END:VEVENT
END:VCALENDAR
