BEGIN:VCALENDAR
VERSION:2.0
CALSCALE:GREGORIAN
PRODID:-//Diputació de Barcelona//DibaCMS//EN
BEGIN:VEVENT
UID:3230
DTSTAMP:20260423T125931
DTSTART:20170526T203000
DTEND:20170526T203000
SUMMARY:Xª Edició Tu Fas Ullastrell 2017
LOCATION:Plaça de les Escoles 
METHOD:PUBLISH
X-WR-CALNAME:ullastrell@ullastrell.cat
X-WR-TIMEZONE:Europe/Madrid
DESCRIPTION:La secció local d'ERC-Ullastrell celebra la Xª Edició dels premis "Tu Fas Ullastrell"

URI:https://www.ullastrell.cat/actualitat/agenda/xa-edicio-tu-fas-ullastrell-2017.html
CLASS:PUBLIC
END:VEVENT
END:VCALENDAR
