BEGIN:VCALENDAR
VERSION:2.0
CALSCALE:GREGORIAN
PRODID:-//Diputació de Barcelona//DibaCMS//EN
BEGIN:VEVENT
UID:3231
DTSTAMP:20260423T082906
DTSTART:20170527T093000
DTEND:20170527T235500
SUMMARY:III Scooter Run Soul Vespa
LOCATION:
METHOD:PUBLISH
X-WR-CALNAME:ullastrell@ullastrell.cat
X-WR-TIMEZONE:Europe/Madrid
DESCRIPTION:Un any més les scooters visiten Ullastrell i es podran veure exposades al carrer de la Serra, al migdia.

URI:https://www.ullastrell.cat/actualitat/agenda/iii-scooter-run-soul-vespa.html
CLASS:PUBLIC
END:VEVENT
END:VCALENDAR
