BEGIN:VCALENDAR
VERSION:2.0
CALSCALE:GREGORIAN
PRODID:-//Diputació de Barcelona//DibaCMS//EN
BEGIN:VEVENT
UID:3232
DTSTAMP:20260423T124857
DTSTART:20170526T153000
DTEND:20170526T200000
SUMMARY:Donació de sang
LOCATION:C/ Josep Fornell, s/n 08231 Ullastrell
METHOD:PUBLISH
X-WR-CALNAME:ullastrell@ullastrell.cat
X-WR-TIMEZONE:Europe/Madrid
DESCRIPTION:Vine a donar sang, amb una vegada no n'hi ha prou!

URI:https://www.ullastrell.cat/actualitat/agenda/3232-donacio-de-sang.html
CLASS:PUBLIC
END:VEVENT
END:VCALENDAR
