BEGIN:VCALENDAR
VERSION:2.0
CALSCALE:GREGORIAN
PRODID:-//Diputació de Barcelona//DibaCMS//EN
BEGIN:VEVENT
UID:3234
DTSTAMP:20260423T112935
DTSTART:20170528T190000
DTEND:20170528T190000
SUMMARY:STOPIFLY - Paula Grande & the loop
LOCATION:C/Josep Fornell s/n  08231 Ullastrell
METHOD:PUBLISH
X-WR-CALNAME:ullastrell@ullastrell.cat
X-WR-TIMEZONE:Europe/Madrid
DESCRIPTION:Directes al Bar del Casal

URI:https://www.ullastrell.cat/actualitat/agenda/stopifly-paula-grande-and-the-loop.html
CLASS:PUBLIC
END:VEVENT
END:VCALENDAR
