BEGIN:VCALENDAR
VERSION:2.0
CALSCALE:GREGORIAN
PRODID:-//Diputació de Barcelona//DibaCMS//EN
BEGIN:VEVENT
UID:3243
DTSTAMP:20260423T124552
DTSTART:20170603T090000
DTEND:20170603T133000
SUMMARY:Deixalleria mòbil
LOCATION:
METHOD:PUBLISH
X-WR-CALNAME:ullastrell@ullastrell.cat
X-WR-TIMEZONE:Europe/Madrid
DESCRIPTION:Fes ús d'aquest servei gratuït per portar tot allò que no es pot dipostiar al contenidor habitual.

URI:https://www.ullastrell.cat/actualitat/agenda/3243-deixalleria-mobil.html
CLASS:PUBLIC
END:VEVENT
END:VCALENDAR
