BEGIN:VCALENDAR
VERSION:2.0
CALSCALE:GREGORIAN
PRODID:-//Diputació de Barcelona//DibaCMS//EN
BEGIN:VEVENT
UID:3244
DTSTAMP:20260423T130655
DTSTART:20170606T090000
DTEND:20170607T200000
SUMMARY:Posa'm al balcó!
LOCATION:C/ Serra, 17 08231 Ullastrell
METHOD:PUBLISH
X-WR-CALNAME:ullastrell@ullastrell.cat
X-WR-TIMEZONE:Europe/Madrid
DESCRIPTION:Vine a recollir la teva flor a l'Ajuntament

URI:https://www.ullastrell.cat/actualitat/agenda/3244-posam-al-balco.html
CLASS:PUBLIC
END:VEVENT
END:VCALENDAR
