BEGIN:VCALENDAR
VERSION:2.0
CALSCALE:GREGORIAN
PRODID:-//Diputació de Barcelona//DibaCMS//EN
BEGIN:VEVENT
UID:3246
DTSTAMP:20260423T093331
DTSTART:20170630T150000
DTEND:20170630T150000
SUMMARY:Festa fi de curs El Cucut
LOCATION:Plaça de les Escoles 
METHOD:PUBLISH
X-WR-CALNAME:ullastrell@ullastrell.cat
X-WR-TIMEZONE:Europe/Madrid
DESCRIPTION:Festa de final de curs de la Llar d'Infants municipal

URI:https://www.ullastrell.cat/actualitat/agenda/festa-fi-de-curs-el-cucut.html
CLASS:PUBLIC
END:VEVENT
END:VCALENDAR
