BEGIN:VCALENDAR
VERSION:2.0
CALSCALE:GREGORIAN
PRODID:-//Diputació de Barcelona//DibaCMS//EN
BEGIN:VEVENT
UID:3248
DTSTAMP:20260423T175756
DTSTART:20170607T173000
DTEND:20170607T183000
SUMMARY:Conte va, conte ve.... PETIT MON MÓN DE CONTES
LOCATION:C/ Josep Fornell, s/n 08231 Ullastrell
METHOD:PUBLISH
X-WR-CALNAME:ullastrell@ullastrell.cat
X-WR-TIMEZONE:Europe/Madrid
DESCRIPTION:Ingrid Domingo ens endinsarà en aquest món de contes.

 

URI:https://www.ullastrell.cat/actualitat/agenda/conte-va-conte-ve-petit-mon-mon-de-contes.html
CLASS:PUBLIC
END:VEVENT
END:VCALENDAR
