BEGIN:VCALENDAR
VERSION:2.0
CALSCALE:GREGORIAN
PRODID:-//Diputació de Barcelona//DibaCMS//EN
BEGIN:VEVENT
UID:3250
DTSTAMP:20260423T080951
DTSTART:20170618T180000
DTEND:20170618T180000
SUMMARY:CORAL ULLASTRELL - Missa i concert de Corpus
LOCATION:Plaça de l'església, 2 08231 Ullastrell
METHOD:PUBLISH
X-WR-CALNAME:ullastrell@ullastrell.cat
X-WR-TIMEZONE:Europe/Madrid
DESCRIPTION:Un any més la Coral canta a la missa de Corpus i seguidament farà un petit concert a la mateixa església

URI:https://www.ullastrell.cat/actualitat/agenda/coral-ullastrell-missa-i-concert-de-corpus.html
CLASS:PUBLIC
END:VEVENT
END:VCALENDAR
