BEGIN:VCALENDAR
VERSION:2.0
CALSCALE:GREGORIAN
PRODID:-//Diputació de Barcelona//DibaCMS//EN
BEGIN:VEVENT
UID:3251
DTSTAMP:20260423T081128
DTSTART:20170623T210000
DTEND:20170623T210000
SUMMARY:Arribada de la Flama del Canigó
LOCATION:Font del Padró 
METHOD:PUBLISH
X-WR-CALNAME:ullastrell@ullastrell.cat
X-WR-TIMEZONE:Europe/Madrid
DESCRIPTION:Vine a rebre la Flama del Canigó que encendrà la foguera de Sant Joan per donar la benvinguda a l'estiu

URI:https://www.ullastrell.cat/actualitat/agenda/arribada-de-la-flama-del-canigo.html
CLASS:PUBLIC
END:VEVENT
END:VCALENDAR
