BEGIN:VCALENDAR
VERSION:2.0
CALSCALE:GREGORIAN
PRODID:-//Diputació de Barcelona//DibaCMS//EN
BEGIN:VEVENT
UID:3252
DTSTAMP:20260423T024213
DTSTART:20170622T100000
DTEND:20170622T100000
SUMMARY:Inici de la temporada de la piscina municipal
LOCATION:
METHOD:PUBLISH
X-WR-CALNAME:ullastrell@ullastrell.cat
X-WR-TIMEZONE:Europe/Madrid
DESCRIPTION:El dijous 22 s'obriran les portes de la piscina municipal que estarà oberta fins al setembre.

URI:https://www.ullastrell.cat/actualitat/agenda/inici-de-la-temporada-de-la-piscina-municipal.html
CLASS:PUBLIC
END:VEVENT
END:VCALENDAR
