BEGIN:VCALENDAR
VERSION:2.0
CALSCALE:GREGORIAN
PRODID:-//Diputació de Barcelona//DibaCMS//EN
BEGIN:VEVENT
UID:3253
DTSTAMP:20260423T034926
DTSTART:20170812T100000
DTEND:20170815T230000
SUMMARY:FESTA MAJOR 2017
LOCATION:
METHOD:PUBLISH
X-WR-CALNAME:ullastrell@ullastrell.cat
X-WR-TIMEZONE:Europe/Madrid
DESCRIPTION:Consulta i descarrega el programa de la Festa Major 2017

URI:https://www.ullastrell.cat/actualitat/agenda/festa-major-2017.html
CLASS:PUBLIC
END:VEVENT
END:VCALENDAR
