BEGIN:VCALENDAR
VERSION:2.0
CALSCALE:GREGORIAN
PRODID:-//Diputació de Barcelona//DibaCMS//EN
BEGIN:VEVENT
UID:3254
DTSTAMP:20260423T011638
DTSTART:20170721T214500
DTEND:20170721T214500
SUMMARY:Liceu a la fresca - IL TROVATORE
LOCATION:Plaça de les Escoles 
METHOD:PUBLISH
X-WR-CALNAME:ullastrell@ullastrell.cat
X-WR-TIMEZONE:Europe/Madrid
DESCRIPTION:Vine a gaudir un any més de l'òpera, a la fresca!

URI:https://www.ullastrell.cat/actualitat/agenda/liceu-a-la-fresca-il-trovatore.html
CLASS:PUBLIC
END:VEVENT
END:VCALENDAR
