BEGIN:VCALENDAR
VERSION:2.0
CALSCALE:GREGORIAN
PRODID:-//Diputació de Barcelona//DibaCMS//EN
BEGIN:VEVENT
UID:3255
DTSTAMP:20260423T035233
DTSTART:20170706T213000
DTEND:20170706T213000
SUMMARY:En directe a les estrelles...
LOCATION:C/ Josep Fornell, s/n 08231 Ullastrell
METHOD:PUBLISH
X-WR-CALNAME:ullastrell@ullastrell.cat
X-WR-TIMEZONE:Europe/Madrid
DESCRIPTION:6 juliol Vine a gaudir de música en directe amb Victor Mirallas 

URI:https://www.ullastrell.cat/actualitat/agenda/en-directe-a-les-estrelles.html
CLASS:PUBLIC
END:VEVENT
END:VCALENDAR
