BEGIN:VCALENDAR
VERSION:2.0
CALSCALE:GREGORIAN
PRODID:-//Diputació de Barcelona//DibaCMS//EN
BEGIN:VEVENT
UID:3257
DTSTAMP:20260423T200723
DTSTART:20170720T213000
DTEND:20170720T213000
SUMMARY:En directe a les estrelles...
LOCATION:
METHOD:PUBLISH
X-WR-CALNAME:ullastrell@ullastrell.cat
X-WR-TIMEZONE:Europe/Madrid
DESCRIPTION:Vine a gaudir de música en directe al Casal!

URI:https://www.ullastrell.cat/actualitat/agenda/3257-en-directe-a-les-estrelles.html
CLASS:PUBLIC
END:VEVENT
END:VCALENDAR
