BEGIN:VCALENDAR
VERSION:2.0
CALSCALE:GREGORIAN
PRODID:-//Diputació de Barcelona//DibaCMS//EN
BEGIN:VEVENT
UID:3258
DTSTAMP:20260423T154632
DTSTART:20170727T213000
DTEND:20170727T213000
SUMMARY:En directe a les estrelles-..
LOCATION:C/ Josep Fornell, s/n 08231 Ullastrell
METHOD:PUBLISH
X-WR-CALNAME:ullastrell@ullastrell.cat
X-WR-TIMEZONE:Europe/Madrid
DESCRIPTION:Vine a gaudir de música en directe al Casal!

URI:https://www.ullastrell.cat/actualitat/agenda/en-directe-a-les-estrelles-.html
CLASS:PUBLIC
END:VEVENT
END:VCALENDAR
