BEGIN:VCALENDAR
VERSION:2.0
CALSCALE:GREGORIAN
PRODID:-//Diputació de Barcelona//DibaCMS//EN
BEGIN:VEVENT
UID:3259
DTSTAMP:20260423T011204
DTSTART:20170619T210000
DTEND:20170619T210000
SUMMARY:Inici campionat Futbol Sala 2017
LOCATION:C/ Josep Fornell, s/n 08231 Ullastrell
METHOD:PUBLISH
X-WR-CALNAME:ullastrell@ullastrell.cat
X-WR-TIMEZONE:Europe/Madrid
DESCRIPTION:Arriba de nou el torneig de l'estiu de futbol sala

URI:https://www.ullastrell.cat/actualitat/agenda/inici-campionat-futbol-sala-2017.html
CLASS:PUBLIC
END:VEVENT
END:VCALENDAR
