BEGIN:VCALENDAR
VERSION:2.0
CALSCALE:GREGORIAN
PRODID:-//Diputació de Barcelona//DibaCMS//EN
BEGIN:VEVENT
UID:3260
DTSTAMP:20260423T124755
DTSTART:20170721T210000
DTEND:20170721T210000
SUMMARY:Final del campionat de Futbol Sala
LOCATION:C/ Josep Fornell, s/n 08231 Ullastrell
METHOD:PUBLISH
X-WR-CALNAME:ullastrell@ullastrell.cat
X-WR-TIMEZONE:Europe/Madrid
DESCRIPTION:
URI:https://www.ullastrell.cat/actualitat/agenda/final-del-campionat-de-futbol-sala.html
CLASS:PUBLIC
END:VEVENT
END:VCALENDAR
