BEGIN:VCALENDAR
VERSION:2.0
CALSCALE:GREGORIAN
PRODID:-//Diputació de Barcelona//DibaCMS//EN
BEGIN:VEVENT
UID:3261
DTSTAMP:20260423T140902
DTSTART:20170701T070000
DTEND:20170703T230000
SUMMARY:Viatge a Granada de la Coral d'Ullastrell
LOCATION:
METHOD:PUBLISH
X-WR-CALNAME:ullastrell@ullastrell.cat
X-WR-TIMEZONE:Europe/Madrid
DESCRIPTION:
URI:https://www.ullastrell.cat/actualitat/agenda/viatge-a-granada-de-la-coral-dullastrell.html
CLASS:PUBLIC
END:VEVENT
END:VCALENDAR
