BEGIN:VCALENDAR
VERSION:2.0
CALSCALE:GREGORIAN
PRODID:-//Diputació de Barcelona//DibaCMS//EN
BEGIN:VEVENT
UID:3262
DTSTAMP:20260423T103226
DTSTART:20170621T080000
DTEND:20170621T080000
SUMMARY:Excursió a Palamós - La Colla de la Gent Gran
LOCATION:
METHOD:PUBLISH
X-WR-CALNAME:ullastrell@ullastrell.cat
X-WR-TIMEZONE:Europe/Madrid
DESCRIPTION:Excursió mensual de La Colla de la Gent Gran

 

URI:https://www.ullastrell.cat/actualitat/agenda/excursio-a-palamos-la-colla-de-la-gent-gran.html
CLASS:PUBLIC
END:VEVENT
END:VCALENDAR
