BEGIN:VCALENDAR
VERSION:2.0
CALSCALE:GREGORIAN
PRODID:-//Diputació de Barcelona//DibaCMS//EN
BEGIN:VEVENT
UID:3263
DTSTAMP:20260423T053022
DTSTART:20170625T193000
DTEND:20170625T193000
SUMMARY:Revetlla St. Joan - La Colla de la Gent Gran
LOCATION:Plaça de les Escoles 
METHOD:PUBLISH
X-WR-CALNAME:ullastrell@ullastrell.cat
X-WR-TIMEZONE:Europe/Madrid
DESCRIPTION:Celebració de Sant Joan 

URI:https://www.ullastrell.cat/actualitat/agenda/revetlla-st-joan-la-colla-de-la-gent-gran.html
CLASS:PUBLIC
END:VEVENT
END:VCALENDAR
