BEGIN:VCALENDAR
VERSION:2.0
CALSCALE:GREGORIAN
PRODID:-//Diputació de Barcelona//DibaCMS//EN
BEGIN:VEVENT
UID:3264
DTSTAMP:20260423T140713
DTSTART:20170703T100000
DTEND:20170709T100000
SUMMARY:Visites pel poble - La Colla de la Gent Gran
LOCATION:
METHOD:PUBLISH
X-WR-CALNAME:ullastrell@ullastrell.cat
X-WR-TIMEZONE:Europe/Madrid
DESCRIPTION:Visites socials pel poble amb el grup de voluntaris de l'Escola Pureza de Maria de Sant Cugat del Vallès

URI:https://www.ullastrell.cat/actualitat/agenda/visites-pel-poble-la-colla-de-la-gent-gran.html
CLASS:PUBLIC
END:VEVENT
END:VCALENDAR
