BEGIN:VCALENDAR
VERSION:2.0
CALSCALE:GREGORIAN
PRODID:-//Diputació de Barcelona//DibaCMS//EN
BEGIN:VEVENT
UID:3269
DTSTAMP:20260423T065533
DTSTART:20170616T160000
DTEND:20170616T180000
SUMMARY:L'aventura d'aprendre a programar
LOCATION:
METHOD:PUBLISH
X-WR-CALNAME:ullastrell@ullastrell.cat
X-WR-TIMEZONE:Europe/Madrid
DESCRIPTION:Robòtica i programació: pensament computacional.

URI:https://www.ullastrell.cat/actualitat/agenda/laventura-daprendre-a-programar.html
CLASS:PUBLIC
END:VEVENT
END:VCALENDAR
