BEGIN:VCALENDAR
VERSION:2.0
CALSCALE:GREGORIAN
PRODID:-//Diputació de Barcelona//DibaCMS//EN
BEGIN:VEVENT
UID:3270
DTSTAMP:20260423T064927
DTSTART:20170609T180000
DTEND:20170609T200000
SUMMARY:Taller de Trap reivindicatiu
LOCATION:
METHOD:PUBLISH
X-WR-CALNAME:ullastrell@ullastrell.cat
X-WR-TIMEZONE:Europe/Madrid
DESCRIPTION:
URI:https://www.ullastrell.cat/actualitat/agenda/taller-de-trap-reivindicatiu.html
CLASS:PUBLIC
END:VEVENT
END:VCALENDAR
