BEGIN:VCALENDAR
VERSION:2.0
CALSCALE:GREGORIAN
PRODID:-//Diputació de Barcelona//DibaCMS//EN
BEGIN:VEVENT
UID:3276
DTSTAMP:20260423T200250
DTSTART:20170620T190000
DTEND:20170620T190000
SUMMARY:Sorteig d'estiu - AMEU
LOCATION:Plaça Lluís Companys 
METHOD:PUBLISH
X-WR-CALNAME:ullastrell@ullastrell.cat
X-WR-TIMEZONE:Europe/Madrid
DESCRIPTION:L'associació de comerciants organitza un sorteig d'estiu amb una pluja de regals

URI:https://www.ullastrell.cat/actualitat/agenda/sorteig-destiu-ameu.html
CLASS:PUBLIC
END:VEVENT
END:VCALENDAR
