BEGIN:VCALENDAR
VERSION:2.0
CALSCALE:GREGORIAN
PRODID:-//Diputació de Barcelona//DibaCMS//EN
BEGIN:VEVENT
UID:3278
DTSTAMP:20260423T051143
DTSTART:20170614T200000
DTEND:20170614T210000
SUMMARY:Ple extraordinari juny 2017
LOCATION:C/ Serra, 17 08231 Ullastrell
METHOD:PUBLISH
X-WR-CALNAME:ullastrell@ullastrell.cat
X-WR-TIMEZONE:Europe/Madrid
DESCRIPTION:Tipus de convocatòria: Extraordinària
Data i hora: 14 / de juny / 2017 a les 20:00

URI:https://www.ullastrell.cat/actualitat/agenda/ple-extraordinari-juny-2017.html
CLASS:PUBLIC
END:VEVENT
END:VCALENDAR
