BEGIN:VCALENDAR
VERSION:2.0
CALSCALE:GREGORIAN
PRODID:-//Diputació de Barcelona//DibaCMS//EN
BEGIN:VEVENT
UID:3293
DTSTAMP:20260423T143631
DTSTART:20170713T120000
DTEND:20170713T130000
SUMMARY:Oficina mòbil del consumidor
LOCATION:Davant ajuntament 
METHOD:PUBLISH
X-WR-CALNAME:ullastrell@ullastrell.cat
X-WR-TIMEZONE:Europe/Madrid
DESCRIPTION:Servei gratuït per als consumidors

URI:https://www.ullastrell.cat/actualitat/agenda/3293-oficina-mobil-del-consumidor.html
CLASS:PUBLIC
END:VEVENT
END:VCALENDAR
