BEGIN:VCALENDAR
VERSION:2.0
CALSCALE:GREGORIAN
PRODID:-//Diputació de Barcelona//DibaCMS//EN
BEGIN:VEVENT
UID:3299
DTSTAMP:20260423T112946
DTSTART:20170719T200000
DTEND:20170719T200000
SUMMARY:Ple Ordinari
LOCATION:C/ Serra, 17 08231 Ullastrell
METHOD:PUBLISH
X-WR-CALNAME:ullastrell@ullastrell.cat
X-WR-TIMEZONE:Europe/Madrid
DESCRIPTION:Ple ordinari trimestral

URI:https://www.ullastrell.cat/actualitat/agenda/3299-ple-ordinari.html
CLASS:PUBLIC
END:VEVENT
END:VCALENDAR
