BEGIN:VCALENDAR
VERSION:2.0
CALSCALE:GREGORIAN
PRODID:-//Diputació de Barcelona//DibaCMS//EN
BEGIN:VEVENT
UID:3300
DTSTAMP:20260423T093136
DTSTART:20170714T220000
DTEND:20170714T225900
SUMMARY:Juguem al carrer!
LOCATION:
METHOD:PUBLISH
X-WR-CALNAME:ullastrell@ullastrell.cat
X-WR-TIMEZONE:Europe/Madrid
DESCRIPTION:
URI:https://www.ullastrell.cat/actualitat/agenda/juguem-al-carrer.html
CLASS:PUBLIC
END:VEVENT
END:VCALENDAR
