BEGIN:VCALENDAR
VERSION:2.0
CALSCALE:GREGORIAN
PRODID:-//Diputació de Barcelona//DibaCMS//EN
BEGIN:VEVENT
UID:3304
DTSTAMP:20260423T134400
DTSTART:20170722T100000
DTEND:20170722T220000
SUMMARY:12 hores de futbol sala masculí
LOCATION:
METHOD:PUBLISH
X-WR-CALNAME:ullastrell@ullastrell.cat
X-WR-TIMEZONE:Europe/Madrid
DESCRIPTION:
URI:https://www.ullastrell.cat/actualitat/agenda/12-hores-de-futbol-sala-masculi.html
CLASS:PUBLIC
END:VEVENT
END:VCALENDAR
