BEGIN:VCALENDAR
VERSION:2.0
CALSCALE:GREGORIAN
PRODID:-//Diputació de Barcelona//DibaCMS//EN
BEGIN:VEVENT
UID:3307
DTSTAMP:20260423T201215
DTSTART:20170728T170000
DTEND:20170728T203000
SUMMARY:Donació de sang
LOCATION:C/ Josep Fornell, s/n 08231 Ullastrell
METHOD:PUBLISH
X-WR-CALNAME:ullastrell@ullastrell.cat
X-WR-TIMEZONE:Europe/Madrid
DESCRIPTION:Anima't a venir a donar sang!

URI:https://www.ullastrell.cat/actualitat/agenda/3307-donacio-de-sang.html
CLASS:PUBLIC
END:VEVENT
END:VCALENDAR
