BEGIN:VCALENDAR
VERSION:2.0
CALSCALE:GREGORIAN
PRODID:-//Diputació de Barcelona//DibaCMS//EN
BEGIN:VEVENT
UID:3308
DTSTAMP:20260423T143734
DTSTART:20170727T180000
DTEND:20170727T180000
SUMMARY:Reunió de dones pel Pla d'Igualtat
LOCATION:L'Altell del Casal Cultural 
METHOD:PUBLISH
X-WR-CALNAME:ullastrell@ullastrell.cat
X-WR-TIMEZONE:Europe/Madrid
DESCRIPTION:Dins el Pla d'Igualtat es portarà a terme diferents reunions amb dones del poble.

URI:https://www.ullastrell.cat/actualitat/agenda/reunio-de-dones-pel-pla-digualtat.html
CLASS:PUBLIC
END:VEVENT
END:VCALENDAR
