BEGIN:VCALENDAR
VERSION:2.0
CALSCALE:GREGORIAN
PRODID:-//Diputació de Barcelona//DibaCMS//EN
BEGIN:VEVENT
UID:3311
DTSTAMP:20260423T195800
DTSTART:20170721T220000
DTEND:20170721T235900
SUMMARY:Juguem a la Serra!
LOCATION:Carrer Serra, davant Ajuntament 
METHOD:PUBLISH
X-WR-CALNAME:ullastrell@ullastrell.cat
X-WR-TIMEZONE:Europe/Madrid
DESCRIPTION:L'Esplai gestiona aquesta estona de jocs infantils de carrer

URI:https://www.ullastrell.cat/actualitat/agenda/3311-juguem-a-la-serra.html
CLASS:PUBLIC
END:VEVENT
END:VCALENDAR
