BEGIN:VCALENDAR
VERSION:2.0
CALSCALE:GREGORIAN
PRODID:-//Diputació de Barcelona//DibaCMS//EN
BEGIN:VEVENT
UID:3315
DTSTAMP:20260423T125025
DTSTART:20170724T000000
DTEND:20170724T000000
SUMMARY:Resum del Ple ordinari de juliol
LOCATION:
METHOD:PUBLISH
X-WR-CALNAME:ullastrell@ullastrell.cat
X-WR-TIMEZONE:Europe/Madrid
DESCRIPTION:
URI:https://www.ullastrell.cat/actualitat/agenda/resum-del-ple-ordinari-de-juliol.html
CLASS:PUBLIC
END:VEVENT
END:VCALENDAR
