BEGIN:VCALENDAR
VERSION:2.0
CALSCALE:GREGORIAN
PRODID:-//Diputació de Barcelona//DibaCMS//EN
BEGIN:VEVENT
UID:3320
DTSTAMP:20260423T064819
DTSTART:20170728T220000
DTEND:20170728T230000
SUMMARY:Juguem a la Serra!
LOCATION:Serra, davant de l'Ajuntament 
METHOD:PUBLISH
X-WR-CALNAME:ullastrell@ullastrell.cat
X-WR-TIMEZONE:Europe/Madrid
DESCRIPTION:Vine a jugar al carrer amb tota la teva colla!

URI:https://www.ullastrell.cat/actualitat/agenda/3320-juguem-a-la-serra.html
CLASS:PUBLIC
END:VEVENT
END:VCALENDAR
