BEGIN:VCALENDAR
VERSION:2.0
CALSCALE:GREGORIAN
PRODID:-//Diputació de Barcelona//DibaCMS//EN
BEGIN:VEVENT
UID:3326
DTSTAMP:20260423T180441
DTSTART:20170805T090000
DTEND:20170805T133000
SUMMARY:DEIXALLERIA MÒBIL
LOCATION:
METHOD:PUBLISH
X-WR-CALNAME:ullastrell@ullastrell.cat
X-WR-TIMEZONE:Europe/Madrid
DESCRIPTION:Cada primer dissabte de mes ens visita la deixalleria mòbil.

URI:https://www.ullastrell.cat/actualitat/agenda/3326-deixalleria-mobil.html
CLASS:PUBLIC
END:VEVENT
END:VCALENDAR
