BEGIN:VCALENDAR
VERSION:2.0
CALSCALE:GREGORIAN
PRODID:-//Diputació de Barcelona//DibaCMS//EN
BEGIN:VEVENT
UID:3327
DTSTAMP:20260423T172838
DTSTART:20170902T090000
DTEND:20170902T133000
SUMMARY:DEIXALLERIA MÒBIL
LOCATION:
METHOD:PUBLISH
X-WR-CALNAME:ullastrell@ullastrell.cat
X-WR-TIMEZONE:Europe/Madrid
DESCRIPTION:Cada primer dissabte de mes ens visita la deixalleria mòbil.

La podeu trobar en aquests punts:

URI:https://www.ullastrell.cat/actualitat/agenda/3327-deixalleria-mobil.html
CLASS:PUBLIC
END:VEVENT
END:VCALENDAR
