BEGIN:VCALENDAR
VERSION:2.0
CALSCALE:GREGORIAN
PRODID:-//Diputació de Barcelona//DibaCMS//EN
BEGIN:VEVENT
UID:3328
DTSTAMP:20260423T163128
DTSTART:20170804T220000
DTEND:20170804T235900
SUMMARY:JUGUEM AL CARRER!
LOCATION:
METHOD:PUBLISH
X-WR-CALNAME:ullastrell@ullastrell.cat
X-WR-TIMEZONE:Europe/Madrid
DESCRIPTION:Vine a jugar amb la teva colla d'amics a la Serra, i descobreix els jocs de carrer!

URI:https://www.ullastrell.cat/actualitat/agenda/3328-juguem-al-carrer.html
CLASS:PUBLIC
END:VEVENT
END:VCALENDAR
