BEGIN:VCALENDAR
VERSION:2.0
CALSCALE:GREGORIAN
PRODID:-//Diputació de Barcelona//DibaCMS//EN
BEGIN:VEVENT
UID:3348
DTSTAMP:20260423T081956
DTSTART:20170910T000000
DTEND:20170911T000000
SUMMARY:Actes de La Diada
LOCATION:
METHOD:PUBLISH
X-WR-CALNAME:ullastrell@ullastrell.cat
X-WR-TIMEZONE:Europe/Madrid
DESCRIPTION:

URI:https://www.ullastrell.cat/actualitat/agenda/actes-de-la-diada.html
CLASS:PUBLIC
END:VEVENT
END:VCALENDAR
