BEGIN:VCALENDAR
VERSION:2.0
CALSCALE:GREGORIAN
PRODID:-//Diputació de Barcelona//DibaCMS//EN
BEGIN:VEVENT
UID:3352
DTSTAMP:20260423T062704
DTSTART:20170906T193000
DTEND:20170906T203000
SUMMARY:Portes obertes - Pisos per a joves
LOCATION:Corraló de Cal Barber 
METHOD:PUBLISH
X-WR-CALNAME:ullastrell@ullastrell.cat
X-WR-TIMEZONE:Europe/Madrid
DESCRIPTION:
URI:https://www.ullastrell.cat/actualitat/agenda/portes-obertes-pisos-per-a-joves.html
CLASS:PUBLIC
END:VEVENT
END:VCALENDAR
